BEGIN:VCALENDAR
VERSION:2.0
PRODID:-//St Michael School - ECPv6.0.0.1//NONSGML v1.0//EN
CALSCALE:GREGORIAN
METHOD:PUBLISH
X-ORIGINAL-URL:https://stmichaelschool.edu.mt
X-WR-CALDESC:Events for St Michael School
REFRESH-INTERVAL;VALUE=DURATION:PT1H
X-Robots-Tag:noindex
X-PUBLISHED-TTL:PT1H
BEGIN:VTIMEZONE
TZID:Europe/Malta
BEGIN:DAYLIGHT
TZOFFSETFROM:+0100
TZOFFSETTO:+0200
TZNAME:CEST
DTSTART:20250330T010000
END:DAYLIGHT
BEGIN:STANDARD
TZOFFSETFROM:+0200
TZOFFSETTO:+0100
TZNAME:CET
DTSTART:20251026T010000
END:STANDARD
END:VTIMEZONE
BEGIN:VEVENT
DTSTART;VALUE=DATE:20250501
DTEND;VALUE=DATE:20250502
DTSTAMP:20260420T041118
CREATED:20250426T054038Z
LAST-MODIFIED:20250426T054038Z
UID:8023-1746057600-1746143999@stmichaelschool.edu.mt
SUMMARY:Public Holiday - Saint Joseph the Worker
DESCRIPTION:Saint Joseph is the patron saint of workers and craftsmen.
URL:https://stmichaelschool.edu.mt/event/public-holiday-saint-joseph-the-worker/
END:VEVENT
BEGIN:VEVENT
DTSTART;VALUE=DATE:20250502
DTEND;VALUE=DATE:20250503
DTSTAMP:20260420T041118
CREATED:20250426T054224Z
LAST-MODIFIED:20250426T054224Z
UID:8026-1746144000-1746230399@stmichaelschool.edu.mt
SUMMARY:Compensation Holiday - No School Today
DESCRIPTION:Compensation Holiday – No School Today
URL:https://stmichaelschool.edu.mt/event/compensation-holiday-no-school-today/
END:VEVENT
BEGIN:VEVENT
DTSTART;VALUE=DATE:20250509
DTEND;VALUE=DATE:20250510
DTSTAMP:20260420T041118
CREATED:20250426T054352Z
LAST-MODIFIED:20250426T054352Z
UID:8029-1746748800-1746835199@stmichaelschool.edu.mt
SUMMARY:Feast of St George Preca
DESCRIPTION:
URL:https://stmichaelschool.edu.mt/event/feast-of-st-george-preca/
END:VEVENT
BEGIN:VEVENT
DTSTART;VALUE=DATE:20250516
DTEND;VALUE=DATE:20250517
DTSTAMP:20260420T041118
CREATED:20250426T054647Z
LAST-MODIFIED:20250426T054647Z
UID:8032-1747353600-1747439999@stmichaelschool.edu.mt
SUMMARY:Annual School Celebration - Faith & Science
DESCRIPTION:Annual School Celebration – Faith & Science \n\nStudents will finish school at 12.30 pm.\nThe Celebration will start at 6:00 pm and is open to everyone.
URL:https://stmichaelschool.edu.mt/event/annual-school-celebration-faith-science/
END:VEVENT
END:VCALENDAR