BEGIN:VCALENDAR
VERSION:2.0
PRODID:-//St Michael School - ECPv6.0.0.1//NONSGML v1.0//EN
CALSCALE:GREGORIAN
METHOD:PUBLISH
X-ORIGINAL-URL:https://stmichaelschool.edu.mt
X-WR-CALDESC:Events for St Michael School
REFRESH-INTERVAL;VALUE=DURATION:PT1H
X-Robots-Tag:noindex
X-PUBLISHED-TTL:PT1H
BEGIN:VTIMEZONE
TZID:Europe/Malta
BEGIN:DAYLIGHT
TZOFFSETFROM:+0100
TZOFFSETTO:+0200
TZNAME:CEST
DTSTART:20250330T010000
END:DAYLIGHT
BEGIN:STANDARD
TZOFFSETFROM:+0200
TZOFFSETTO:+0100
TZNAME:CET
DTSTART:20251026T010000
END:STANDARD
END:VTIMEZONE
BEGIN:VEVENT
DTSTART;VALUE=DATE:20250303
DTEND;VALUE=DATE:20250304
DTSTAMP:20260420T073552
CREATED:20250225T063643Z
LAST-MODIFIED:20250225T063715Z
UID:7916-1740960000-1741046399@stmichaelschool.edu.mt
SUMMARY:Carnival Holidays
DESCRIPTION:
URL:https://stmichaelschool.edu.mt/event/carnival-holidays-3/
END:VEVENT
BEGIN:VEVENT
DTSTART;VALUE=DATE:20250304
DTEND;VALUE=DATE:20250305
DTSTAMP:20260420T073552
CREATED:20250225T063746Z
LAST-MODIFIED:20250225T063746Z
UID:7919-1741046400-1741132799@stmichaelschool.edu.mt
SUMMARY:Carnival Holidays
DESCRIPTION:
URL:https://stmichaelschool.edu.mt/event/carnival-holidays-4/
END:VEVENT
BEGIN:VEVENT
DTSTART;VALUE=DATE:20250305
DTEND;VALUE=DATE:20250306
DTSTAMP:20260420T073552
CREATED:20250225T063935Z
LAST-MODIFIED:20250225T064021Z
UID:7922-1741132800-1741219199@stmichaelschool.edu.mt
SUMMARY:Ash Wednesday - Ras ir-Randan (Normal School day)
DESCRIPTION:Normal School day
URL:https://stmichaelschool.edu.mt/event/ash-wednesday-ras-ir-randan-normal-school-day/
END:VEVENT
BEGIN:VEVENT
DTSTART;VALUE=DATE:20250328
DTEND;VALUE=DATE:20250329
DTSTAMP:20260420T073552
CREATED:20250328T160212Z
LAST-MODIFIED:20250328T160212Z
UID:7934-1743120000-1743206399@stmichaelschool.edu.mt
SUMMARY:Lenten talks for all students
DESCRIPTION:Lenten talks for all students in four different SDC centres.
URL:https://stmichaelschool.edu.mt/event/lenten-talks-for-all-students/
END:VEVENT
BEGIN:VEVENT
DTSTART;VALUE=DATE:20250331
DTEND;VALUE=DATE:20250401
DTSTAMP:20260420T073552
CREATED:20250328T160351Z
LAST-MODIFIED:20250328T160351Z
UID:7937-1743379200-1743465599@stmichaelschool.edu.mt
SUMMARY:Freedom Day - Maltese national holiday
DESCRIPTION:Freedom Day – Maltese national holiday
URL:https://stmichaelschool.edu.mt/event/freedom-day-maltese-national-holiday/
END:VEVENT
END:VCALENDAR