BEGIN:VCALENDAR
VERSION:2.0
PRODID:-//St Michael School - ECPv6.0.0.1//NONSGML v1.0//EN
CALSCALE:GREGORIAN
METHOD:PUBLISH
X-ORIGINAL-URL:https://stmichaelschool.edu.mt
X-WR-CALDESC:Events for St Michael School
REFRESH-INTERVAL;VALUE=DURATION:PT1H
X-Robots-Tag:noindex
X-PUBLISHED-TTL:PT1H
BEGIN:VTIMEZONE
TZID:Europe/Malta
BEGIN:DAYLIGHT
TZOFFSETFROM:+0100
TZOFFSETTO:+0200
TZNAME:CEST
DTSTART:20250330T010000
END:DAYLIGHT
BEGIN:STANDARD
TZOFFSETFROM:+0200
TZOFFSETTO:+0100
TZNAME:CET
DTSTART:20251026T010000
END:STANDARD
END:VTIMEZONE
BEGIN:VEVENT
DTSTART;TZID=Europe/Malta:20250204T084500
DTEND;TZID=Europe/Malta:20250204T110000
DTSTAMP:20260420T092730
CREATED:20250123T145559Z
LAST-MODIFIED:20250123T150024Z
UID:7840-1738658700-1738666800@stmichaelschool.edu.mt
SUMMARY:Year 11 Parent's Seminar
DESCRIPTION:
URL:https://stmichaelschool.edu.mt/event/compensation-holiday/
END:VEVENT
BEGIN:VEVENT
DTSTART;TZID=Europe/Malta:20250205T084500
DTEND;TZID=Europe/Malta:20250205T110000
DTSTAMP:20260420T092730
CREATED:20250123T150300Z
LAST-MODIFIED:20250123T150300Z
UID:7847-1738745100-1738753200@stmichaelschool.edu.mt
SUMMARY:Year 7&8 Parent's Seminar
DESCRIPTION:
URL:https://stmichaelschool.edu.mt/event/year-78-parents-seminar/
END:VEVENT
BEGIN:VEVENT
DTSTART;TZID=Europe/Malta:20250206T114500
DTEND;TZID=Europe/Malta:20250206T143000
DTSTAMP:20260420T092730
CREATED:20250123T150302Z
LAST-MODIFIED:20250123T150718Z
UID:7853-1738842300-1738852200@stmichaelschool.edu.mt
SUMMARY:Staff Meeting - School till 11.45am
DESCRIPTION:
URL:https://stmichaelschool.edu.mt/event/staff-meeting-school-till-11-45am/
END:VEVENT
BEGIN:VEVENT
DTSTART;TZID=Europe/Malta:20250219T084500
DTEND;TZID=Europe/Malta:20250219T110000
DTSTAMP:20260420T092730
CREATED:20250123T150341Z
LAST-MODIFIED:20250123T150341Z
UID:7850-1739954700-1739962800@stmichaelschool.edu.mt
SUMMARY:Year 9&10 Parent's Seminar
DESCRIPTION:
URL:https://stmichaelschool.edu.mt/event/year-910-parents-seminar/
END:VEVENT
BEGIN:VEVENT
DTSTART;VALUE=DATE:20250228
DTEND;VALUE=DATE:20250301
DTSTAMP:20260420T092730
CREATED:20250225T063414Z
LAST-MODIFIED:20250225T063414Z
UID:7913-1740700800-1740787199@stmichaelschool.edu.mt
SUMMARY:Mixja Maratona
DESCRIPTION:Din is-sena l-Mixja Maratona se tibda mis-Siġġiewi u tintemm fil-grawnd taż-Żurrieq.
URL:https://stmichaelschool.edu.mt/event/mixja-maratona/
END:VEVENT
END:VCALENDAR