BEGIN:VCALENDAR
VERSION:2.0
PRODID:-//St Michael School - ECPv6.0.0.1//NONSGML v1.0//EN
CALSCALE:GREGORIAN
METHOD:PUBLISH
X-ORIGINAL-URL:https://stmichaelschool.edu.mt
X-WR-CALDESC:Events for St Michael School
REFRESH-INTERVAL;VALUE=DURATION:PT1H
X-Robots-Tag:noindex
X-PUBLISHED-TTL:PT1H
BEGIN:VTIMEZONE
TZID:Europe/Malta
BEGIN:DAYLIGHT
TZOFFSETFROM:+0100
TZOFFSETTO:+0200
TZNAME:CEST
DTSTART:20240331T010000
END:DAYLIGHT
BEGIN:STANDARD
TZOFFSETFROM:+0200
TZOFFSETTO:+0100
TZNAME:CET
DTSTART:20241027T010000
END:STANDARD
END:VTIMEZONE
BEGIN:VEVENT
DTSTART;TZID=Europe/Malta:20241206T080000
DTEND;TZID=Europe/Malta:20241206T113000
DTSTAMP:20260422T121243
CREATED:20241129T190443Z
LAST-MODIFIED:20241129T190443Z
UID:7610-1733472000-1733484600@stmichaelschool.edu.mt
SUMMARY:Half-day and staff training
DESCRIPTION:
URL:https://stmichaelschool.edu.mt/event/half-day-and-staff-training/
END:VEVENT
BEGIN:VEVENT
DTSTART;TZID=Europe/Malta:20241210T183000
DTEND;TZID=Europe/Malta:20241210T203000
DTSTAMP:20260422T121243
CREATED:20241129T190606Z
LAST-MODIFIED:20241129T190606Z
UID:7613-1733855400-1733862600@stmichaelschool.edu.mt
SUMMARY:Christmas Concert for Year 7 & 8
DESCRIPTION:
URL:https://stmichaelschool.edu.mt/event/christmas-concert-for-year-7-8/
END:VEVENT
BEGIN:VEVENT
DTSTART;TZID=Europe/Malta:20241212T183000
DTEND;TZID=Europe/Malta:20241212T203000
DTSTAMP:20260422T121243
CREATED:20241129T190641Z
LAST-MODIFIED:20241129T190641Z
UID:7616-1734028200-1734035400@stmichaelschool.edu.mt
SUMMARY:Christmas Concert for Year 9\, 10 and 11
DESCRIPTION:
URL:https://stmichaelschool.edu.mt/event/christmas-concert-for-year-9-10-and-11/
END:VEVENT
END:VCALENDAR