BEGIN:VCALENDAR
VERSION:2.0
PRODID:-//St Michael School - ECPv6.0.0.1//NONSGML v1.0//EN
CALSCALE:GREGORIAN
METHOD:PUBLISH
X-ORIGINAL-URL:https://stmichaelschool.edu.mt
X-WR-CALDESC:Events for St Michael School
REFRESH-INTERVAL;VALUE=DURATION:PT1H
X-Robots-Tag:noindex
X-PUBLISHED-TTL:PT1H
BEGIN:VTIMEZONE
TZID:Europe/Malta
BEGIN:DAYLIGHT
TZOFFSETFROM:+0100
TZOFFSETTO:+0200
TZNAME:CEST
DTSTART:20240331T010000
END:DAYLIGHT
BEGIN:STANDARD
TZOFFSETFROM:+0200
TZOFFSETTO:+0100
TZNAME:CET
DTSTART:20241027T010000
END:STANDARD
END:VTIMEZONE
BEGIN:VEVENT
DTSTART;TZID=Europe/Malta:20240603T074500
DTEND;TZID=Europe/Malta:20240603T114500
DTSTAMP:20260422T214402
CREATED:20240501T203550Z
LAST-MODIFIED:20240501T203550Z
UID:6330-1717400700-1717415100@stmichaelschool.edu.mt
SUMMARY:Half Days
DESCRIPTION:
URL:https://stmichaelschool.edu.mt/event/half-days/
END:VEVENT
BEGIN:VEVENT
DTSTART;TZID=Europe/Malta:20240604T190000
DTEND;TZID=Europe/Malta:20240604T210000
DTSTAMP:20260422T214402
CREATED:20240501T203654Z
LAST-MODIFIED:20240501T203654Z
UID:6333-1717527600-1717534800@stmichaelschool.edu.mt
SUMMARY:Year 11 Graduation
DESCRIPTION:
URL:https://stmichaelschool.edu.mt/event/year-11-graduation-2/
END:VEVENT
BEGIN:VEVENT
DTSTART;VALUE=DATE:20240607
DTEND;VALUE=DATE:20240608
DTSTAMP:20260422T214402
CREATED:20240501T203752Z
LAST-MODIFIED:20240502T115605Z
UID:6336-1717718400-1717804799@stmichaelschool.edu.mt
SUMMARY:National Holiday
DESCRIPTION:
URL:https://stmichaelschool.edu.mt/event/national-holiday-3/
END:VEVENT
BEGIN:VEVENT
DTSTART;TZID=Europe/Malta:20240610T074500
DTEND;TZID=Europe/Malta:20240621T114500
DTSTAMP:20260422T214402
CREATED:20240608T095320Z
LAST-MODIFIED:20240608T095320Z
UID:6810-1718005500-1718970300@stmichaelschool.edu.mt
SUMMARY:Annual Examination
DESCRIPTION:
URL:https://stmichaelschool.edu.mt/event/annual-examination/
END:VEVENT
BEGIN:VEVENT
DTSTART;TZID=Europe/Malta:20240624T080000
DTEND;TZID=Europe/Malta:20240624T123000
DTSTAMP:20260422T214402
CREATED:20240608T095625Z
LAST-MODIFIED:20240608T095625Z
UID:6816-1719216000-1719232200@stmichaelschool.edu.mt
SUMMARY:Half day by the sea
DESCRIPTION:
URL:https://stmichaelschool.edu.mt/event/half-day-by-the-sea/
END:VEVENT
BEGIN:VEVENT
DTSTART;VALUE=DATE:20240625
DTEND;VALUE=DATE:20240626
DTSTAMP:20260422T214402
CREATED:20240608T100108Z
LAST-MODIFIED:20240608T100108Z
UID:6819-1719273600-1719359999@stmichaelschool.edu.mt
SUMMARY:A day in Sicily
DESCRIPTION:
URL:https://stmichaelschool.edu.mt/event/a-day-in-sicily/
END:VEVENT
END:VCALENDAR