BEGIN:VCALENDAR
VERSION:2.0
PRODID:-//St Michael School - ECPv6.0.0.1//NONSGML v1.0//EN
CALSCALE:GREGORIAN
METHOD:PUBLISH
X-ORIGINAL-URL:https://stmichaelschool.edu.mt
X-WR-CALDESC:Events for St Michael School
REFRESH-INTERVAL;VALUE=DURATION:PT1H
X-Robots-Tag:noindex
X-PUBLISHED-TTL:PT1H
BEGIN:VTIMEZONE
TZID:Europe/Malta
BEGIN:DAYLIGHT
TZOFFSETFROM:+0100
TZOFFSETTO:+0200
TZNAME:CEST
DTSTART:20240331T010000
END:DAYLIGHT
BEGIN:STANDARD
TZOFFSETFROM:+0200
TZOFFSETTO:+0100
TZNAME:CET
DTSTART:20241027T010000
END:STANDARD
END:VTIMEZONE
BEGIN:VEVENT
DTSTART;VALUE=DATE:20240501
DTEND;VALUE=DATE:20240502
DTSTAMP:20260423T003157
CREATED:20240413T115349Z
LAST-MODIFIED:20240413T115349Z
UID:6160-1714521600-1714607999@stmichaelschool.edu.mt
SUMMARY:1st May - Workers' Day
DESCRIPTION:
URL:https://stmichaelschool.edu.mt/event/1st-may-workers-day/
END:VEVENT
BEGIN:VEVENT
DTSTART;VALUE=DATE:20240506
DTEND;VALUE=DATE:20240507
DTSTAMP:20260423T003157
CREATED:20240501T202854Z
LAST-MODIFIED:20240501T202854Z
UID:6314-1714953600-1715039999@stmichaelschool.edu.mt
SUMMARY:eTwinning - Our students go to Italy
DESCRIPTION:
URL:https://stmichaelschool.edu.mt/event/etwinning-our-students-go-to-italy/
END:VEVENT
BEGIN:VEVENT
DTSTART;VALUE=DATE:20240509
DTEND;VALUE=DATE:20240510
DTSTAMP:20260423T003157
CREATED:20240501T202942Z
LAST-MODIFIED:20240501T203111Z
UID:6317-1715212800-1715299199@stmichaelschool.edu.mt
SUMMARY:Preca Fest - Founders' Day
DESCRIPTION:
URL:https://stmichaelschool.edu.mt/event/preca-fest-founders-day/
END:VEVENT
BEGIN:VEVENT
DTSTART;TZID=Europe/Malta:20240517T183000
DTEND;TZID=Europe/Malta:20240517T213000
DTSTAMP:20260423T003157
CREATED:20240501T203216Z
LAST-MODIFIED:20240501T203216Z
UID:6321-1715970600-1715981400@stmichaelschool.edu.mt
SUMMARY:Lingwa Viva - Annual Celebration
DESCRIPTION:
URL:https://stmichaelschool.edu.mt/event/lingwa-viva-annual-celebration/
END:VEVENT
BEGIN:VEVENT
DTSTART;VALUE=DATE:20240520
DTEND;VALUE=DATE:20240521
DTSTAMP:20260423T003157
CREATED:20240501T203325Z
LAST-MODIFIED:20240501T203325Z
UID:6324-1716163200-1716249599@stmichaelschool.edu.mt
SUMMARY:eTwinning - Italian students in Malta
DESCRIPTION:
URL:https://stmichaelschool.edu.mt/event/etwinning-italian-students-in-malta/
END:VEVENT
BEGIN:VEVENT
DTSTART;TZID=Europe/Malta:20240522T080000
DTEND;TZID=Europe/Malta:20240522T123000
DTSTAMP:20260423T003157
CREATED:20240501T203409Z
LAST-MODIFIED:20240501T203409Z
UID:6327-1716364800-1716381000@stmichaelschool.edu.mt
SUMMARY:CoPE Session
DESCRIPTION:
URL:https://stmichaelschool.edu.mt/event/cope-session-7/
END:VEVENT
END:VCALENDAR