BEGIN:VCALENDAR
VERSION:2.0
PRODID:-//St Michael School - ECPv6.0.0.1//NONSGML v1.0//EN
CALSCALE:GREGORIAN
METHOD:PUBLISH
X-ORIGINAL-URL:https://stmichaelschool.edu.mt
X-WR-CALDESC:Events for St Michael School
REFRESH-INTERVAL;VALUE=DURATION:PT1H
X-Robots-Tag:noindex
X-PUBLISHED-TTL:PT1H
BEGIN:VTIMEZONE
TZID:Europe/Malta
BEGIN:DAYLIGHT
TZOFFSETFROM:+0100
TZOFFSETTO:+0200
TZNAME:CEST
DTSTART:20230326T010000
END:DAYLIGHT
BEGIN:STANDARD
TZOFFSETFROM:+0200
TZOFFSETTO:+0100
TZNAME:CET
DTSTART:20231029T010000
END:STANDARD
BEGIN:DAYLIGHT
TZOFFSETFROM:+0100
TZOFFSETTO:+0200
TZNAME:CEST
DTSTART:20240331T010000
END:DAYLIGHT
BEGIN:STANDARD
TZOFFSETFROM:+0200
TZOFFSETTO:+0100
TZNAME:CET
DTSTART:20241027T010000
END:STANDARD
END:VTIMEZONE
BEGIN:VEVENT
DTSTART;VALUE=DATE:20231222
DTEND;VALUE=DATE:20240106
DTSTAMP:20260423T050735
CREATED:20231024T054854Z
LAST-MODIFIED:20231024T054854Z
UID:4606-1703203200-1704499199@stmichaelschool.edu.mt
SUMMARY:Christmas Holidays
DESCRIPTION:
URL:https://stmichaelschool.edu.mt/event/christmas-holidays-2/
END:VEVENT
BEGIN:VEVENT
DTSTART;VALUE=DATE:20240101
DTEND;VALUE=DATE:20240102
DTSTAMP:20260423T050735
CREATED:20231024T055028Z
LAST-MODIFIED:20231226T085119Z
UID:4613-1704067200-1704153599@stmichaelschool.edu.mt
SUMMARY:Happy New Year 2024
DESCRIPTION:
URL:https://stmichaelschool.edu.mt/event/back-to-school-for-the-second-term-2/
END:VEVENT
BEGIN:VEVENT
DTSTART;TZID=Europe/Malta:20240108T080000
DTEND;TZID=Europe/Malta:20240108T143000
DTSTAMP:20260423T050735
CREATED:20231226T085154Z
LAST-MODIFIED:20231226T085154Z
UID:5275-1704700800-1704724200@stmichaelschool.edu.mt
SUMMARY:Back to school for the second term
DESCRIPTION:
URL:https://stmichaelschool.edu.mt/event/back-to-school-for-the-second-term-3/
END:VEVENT
BEGIN:VEVENT
DTSTART;TZID=Europe/Malta:20240110T123000
DTEND;TZID=Europe/Malta:20240112T203000
DTSTAMP:20260423T050735
CREATED:20231226T085434Z
LAST-MODIFIED:20231226T085434Z
UID:5278-1704889800-1705091400@stmichaelschool.edu.mt
SUMMARY:Year 7 Live-In - Group 1
DESCRIPTION:
URL:https://stmichaelschool.edu.mt/event/year-7-live-in-group-1/
END:VEVENT
BEGIN:VEVENT
DTSTART;TZID=Europe/Malta:20240122T090000
DTEND;TZID=Europe/Malta:20240122T113000
DTSTAMP:20260423T050735
CREATED:20231226T085707Z
LAST-MODIFIED:20240121T074949Z
UID:5284-1705914000-1705923000@stmichaelschool.edu.mt
SUMMARY:Year 11 Parents & Students Seminar
DESCRIPTION:
URL:https://stmichaelschool.edu.mt/event/year-11-parents-students-seminar/
END:VEVENT
BEGIN:VEVENT
DTSTART;TZID=Europe/Malta:20240124T080000
DTEND;TZID=Europe/Malta:20240126T203000
DTSTAMP:20260423T050735
CREATED:20231226T085542Z
LAST-MODIFIED:20231226T085542Z
UID:5281-1706083200-1706301000@stmichaelschool.edu.mt
SUMMARY:Year 7 Live-In - Group 2
DESCRIPTION:
URL:https://stmichaelschool.edu.mt/event/year-7-live-in-group-2/
END:VEVENT
BEGIN:VEVENT
DTSTART;TZID=Europe/Malta:20240130T143000
DTEND;TZID=Europe/Malta:20240201T200000
DTSTAMP:20260423T050735
CREATED:20231226T085817Z
LAST-MODIFIED:20231226T085817Z
UID:5287-1706625000-1706817600@stmichaelschool.edu.mt
SUMMARY:Year 9 Live-In
DESCRIPTION:
URL:https://stmichaelschool.edu.mt/event/year-9-live-in-2/
END:VEVENT
END:VCALENDAR