BEGIN:VCALENDAR
VERSION:2.0
PRODID:-//St Michael School - ECPv6.0.0.1//NONSGML v1.0//EN
CALSCALE:GREGORIAN
METHOD:PUBLISH
X-ORIGINAL-URL:https://stmichaelschool.edu.mt
X-WR-CALDESC:Events for St Michael School
REFRESH-INTERVAL;VALUE=DURATION:PT1H
X-Robots-Tag:noindex
X-PUBLISHED-TTL:PT1H
BEGIN:VTIMEZONE
TZID:Europe/Malta
BEGIN:DAYLIGHT
TZOFFSETFROM:+0100
TZOFFSETTO:+0200
TZNAME:CEST
DTSTART:20230326T010000
END:DAYLIGHT
BEGIN:STANDARD
TZOFFSETFROM:+0200
TZOFFSETTO:+0100
TZNAME:CET
DTSTART:20231029T010000
END:STANDARD
BEGIN:DAYLIGHT
TZOFFSETFROM:+0100
TZOFFSETTO:+0200
TZNAME:CEST
DTSTART:20240331T010000
END:DAYLIGHT
BEGIN:STANDARD
TZOFFSETFROM:+0200
TZOFFSETTO:+0100
TZNAME:CET
DTSTART:20241027T010000
END:STANDARD
END:VTIMEZONE
BEGIN:VEVENT
DTSTART;TZID=Europe/Malta:20231207T183000
DTEND;TZID=Europe/Malta:20231207T210000
DTSTAMP:20260423T064257
CREATED:20231024T054326Z
LAST-MODIFIED:20231024T054326Z
UID:4594-1701973800-1701982800@stmichaelschool.edu.mt
SUMMARY:Christmas Concert
DESCRIPTION:
URL:https://stmichaelschool.edu.mt/event/christmas-concert-2/
END:VEVENT
BEGIN:VEVENT
DTSTART;VALUE=DATE:20231208
DTEND;VALUE=DATE:20231209
DTSTAMP:20260423T064257
CREATED:20231024T054407Z
LAST-MODIFIED:20231024T054407Z
UID:4597-1701993600-1702079999@stmichaelschool.edu.mt
SUMMARY:Feast of the Immaculate Conception
DESCRIPTION:
URL:https://stmichaelschool.edu.mt/event/feast-of-the-immaculate-conception/
END:VEVENT
BEGIN:VEVENT
DTSTART;TZID=Europe/Malta:20231212T080000
DTEND;TZID=Europe/Malta:20231212T143000
DTSTAMP:20260423T064257
CREATED:20231024T054446Z
LAST-MODIFIED:20231024T054611Z
UID:4600-1702368000-1702391400@stmichaelschool.edu.mt
SUMMARY:Marathon Walk
DESCRIPTION:
URL:https://stmichaelschool.edu.mt/event/marathon-walk-2/
END:VEVENT
BEGIN:VEVENT
DTSTART;VALUE=DATE:20231213
DTEND;VALUE=DATE:20231214
DTSTAMP:20260423T064257
CREATED:20231024T054652Z
LAST-MODIFIED:20231024T054802Z
UID:4603-1702425600-1702511999@stmichaelschool.edu.mt
SUMMARY:National Holiday
DESCRIPTION:
URL:https://stmichaelschool.edu.mt/event/national-holiday-2/
END:VEVENT
BEGIN:VEVENT
DTSTART;VALUE=DATE:20231222
DTEND;VALUE=DATE:20240106
DTSTAMP:20260423T064257
CREATED:20231024T054854Z
LAST-MODIFIED:20231024T054854Z
UID:4606-1703203200-1704499199@stmichaelschool.edu.mt
SUMMARY:Christmas Holidays
DESCRIPTION:
URL:https://stmichaelschool.edu.mt/event/christmas-holidays-2/
END:VEVENT
BEGIN:VEVENT
DTSTART;VALUE=DATE:20231225
DTEND;VALUE=DATE:20231226
DTSTAMP:20260423T064257
CREATED:20231024T054925Z
LAST-MODIFIED:20231024T054933Z
UID:4609-1703462400-1703548799@stmichaelschool.edu.mt
SUMMARY:Christamas Day
DESCRIPTION:
URL:https://stmichaelschool.edu.mt/event/christama-day/
END:VEVENT
END:VCALENDAR