BEGIN:VCALENDAR
VERSION:2.0
PRODID:-//St Michael School - ECPv6.0.0.1//NONSGML v1.0//EN
CALSCALE:GREGORIAN
METHOD:PUBLISH
X-ORIGINAL-URL:https://stmichaelschool.edu.mt
X-WR-CALDESC:Events for St Michael School
REFRESH-INTERVAL;VALUE=DURATION:PT1H
X-Robots-Tag:noindex
X-PUBLISHED-TTL:PT1H
BEGIN:VTIMEZONE
TZID:Europe/Malta
BEGIN:DAYLIGHT
TZOFFSETFROM:+0100
TZOFFSETTO:+0200
TZNAME:CEST
DTSTART:20230326T010000
END:DAYLIGHT
BEGIN:STANDARD
TZOFFSETFROM:+0200
TZOFFSETTO:+0100
TZNAME:CET
DTSTART:20231029T010000
END:STANDARD
END:VTIMEZONE
BEGIN:VEVENT
DTSTART;TZID=Europe/Malta:20231003T085000
DTEND;TZID=Europe/Malta:20231003T100000
DTSTAMP:20260423T094645
CREATED:20231001T185915Z
LAST-MODIFIED:20231001T185915Z
UID:4472-1696323000-1696327200@stmichaelschool.edu.mt
SUMMARY:Year 11 Parents' Meeting
DESCRIPTION:
URL:https://stmichaelschool.edu.mt/event/year-11-parents-meeting-2/
END:VEVENT
BEGIN:VEVENT
DTSTART;TZID=Europe/Malta:20231005T183000
DTEND;TZID=Europe/Malta:20231005T203000
DTSTAMP:20260423T094645
CREATED:20231001T190024Z
LAST-MODIFIED:20231001T190024Z
UID:4475-1696530600-1696537800@stmichaelschool.edu.mt
SUMMARY:Year 7 & 8 Parents' Meeting
DESCRIPTION:
URL:https://stmichaelschool.edu.mt/event/year-7-8-parents-meeting-2/
END:VEVENT
BEGIN:VEVENT
DTSTART;TZID=Europe/Malta:20231006T183000
DTEND;TZID=Europe/Malta:20231006T203000
DTSTAMP:20260423T094645
CREATED:20231001T190115Z
LAST-MODIFIED:20231001T190115Z
UID:4478-1696617000-1696624200@stmichaelschool.edu.mt
SUMMARY:Year 9 & 10 Parents' Meeting
DESCRIPTION:
URL:https://stmichaelschool.edu.mt/event/year-9-10-parents-meeting-2/
END:VEVENT
END:VCALENDAR