BEGIN:VCALENDAR
VERSION:2.0
PRODID:-//St Michael School - ECPv6.0.0.1//NONSGML v1.0//EN
CALSCALE:GREGORIAN
METHOD:PUBLISH
X-ORIGINAL-URL:https://stmichaelschool.edu.mt
X-WR-CALDESC:Events for St Michael School
REFRESH-INTERVAL;VALUE=DURATION:PT1H
X-Robots-Tag:noindex
X-PUBLISHED-TTL:PT1H
BEGIN:VTIMEZONE
TZID:Europe/Malta
BEGIN:DAYLIGHT
TZOFFSETFROM:+0100
TZOFFSETTO:+0200
TZNAME:CEST
DTSTART:20230326T010000
END:DAYLIGHT
BEGIN:STANDARD
TZOFFSETFROM:+0200
TZOFFSETTO:+0100
TZNAME:CET
DTSTART:20231029T010000
END:STANDARD
END:VTIMEZONE
BEGIN:VEVENT
DTSTART;TZID=Europe/Malta:20230920T080000
DTEND;TZID=Europe/Malta:20230920T123000
DTSTAMP:20260423T125533
CREATED:20230913T125847Z
LAST-MODIFIED:20230913T125847Z
UID:4301-1695196800-1695213000@stmichaelschool.edu.mt
SUMMARY:CoPE Sessions
DESCRIPTION:
URL:https://stmichaelschool.edu.mt/event/cope-sessions/
END:VEVENT
BEGIN:VEVENT
DTSTART;VALUE=DATE:20230921
DTEND;VALUE=DATE:20230922
DTSTAMP:20260423T125533
CREATED:20230913T130014Z
LAST-MODIFIED:20230913T130014Z
UID:4304-1695254400-1695340799@stmichaelschool.edu.mt
SUMMARY:National Day
DESCRIPTION:
URL:https://stmichaelschool.edu.mt/event/national-day/
END:VEVENT
BEGIN:VEVENT
DTSTART;VALUE=DATE:20230926
DTEND;VALUE=DATE:20230927
DTSTAMP:20260423T125533
CREATED:20230626T152657Z
LAST-MODIFIED:20230626T152915Z
UID:3962-1695686400-1695686400@stmichaelschool.edu.mt
SUMMARY:Summer Holidays
DESCRIPTION:
URL:https://stmichaelschool.edu.mt/event/summer-holidays-2/
END:VEVENT
BEGIN:VEVENT
DTSTART;TZID=Europe/Malta:20230922T080000
DTEND;TZID=Europe/Malta:20230922T120000
DTSTAMP:20260423T125533
CREATED:20230913T130058Z
LAST-MODIFIED:20230913T130058Z
UID:4307-1695369600-1695384000@stmichaelschool.edu.mt
SUMMARY:CoPE Session
DESCRIPTION:
URL:https://stmichaelschool.edu.mt/event/cope-session-4/
END:VEVENT
BEGIN:VEVENT
DTSTART;TZID=Europe/Malta:20230925T080000
DTEND;TZID=Europe/Malta:20230925T143000
DTSTAMP:20260423T125533
CREATED:20230913T130217Z
LAST-MODIFIED:20230913T130217Z
UID:4310-1695628800-1695652200@stmichaelschool.edu.mt
SUMMARY:Welcome to Year 7 Students
DESCRIPTION:
URL:https://stmichaelschool.edu.mt/event/welcome-to-year-7-students/
END:VEVENT
BEGIN:VEVENT
DTSTART;TZID=Europe/Malta:20230926T080000
DTEND;TZID=Europe/Malta:20230926T143000
DTSTAMP:20260423T125533
CREATED:20230913T130315Z
LAST-MODIFIED:20230913T130315Z
UID:4313-1695715200-1695738600@stmichaelschool.edu.mt
SUMMARY:Year 8\, 9\, 10 and 11 Back to School
DESCRIPTION:
URL:https://stmichaelschool.edu.mt/event/year-8-9-10-and-11-back-to-school/
END:VEVENT
BEGIN:VEVENT
DTSTART;TZID=Europe/Malta:20230929T080000
DTEND;TZID=Europe/Malta:20230929T143000
DTSTAMP:20260423T125533
CREATED:20231001T185757Z
LAST-MODIFIED:20231001T185757Z
UID:4469-1695974400-1695997800@stmichaelschool.edu.mt
SUMMARY:Feast of St Michael\, our Patron Saint
DESCRIPTION:
URL:https://stmichaelschool.edu.mt/event/feast-of-st-michael-our-patron-saint/
END:VEVENT
END:VCALENDAR