BEGIN:VCALENDAR
VERSION:2.0
PRODID:-//St Michael School - ECPv6.0.0.1//NONSGML v1.0//EN
CALSCALE:GREGORIAN
METHOD:PUBLISH
X-ORIGINAL-URL:https://stmichaelschool.edu.mt
X-WR-CALDESC:Events for St Michael School
REFRESH-INTERVAL;VALUE=DURATION:PT1H
X-Robots-Tag:noindex
X-PUBLISHED-TTL:PT1H
BEGIN:VTIMEZONE
TZID:UTC
BEGIN:STANDARD
TZOFFSETFROM:+0000
TZOFFSETTO:+0000
TZNAME:UTC
DTSTART:20230101T000000
END:STANDARD
TZID:Europe/Malta
BEGIN:DAYLIGHT
TZOFFSETFROM:+0100
TZOFFSETTO:+0200
TZNAME:CEST
DTSTART:20230326T010000
END:DAYLIGHT
BEGIN:STANDARD
TZOFFSETFROM:+0200
TZOFFSETTO:+0100
TZNAME:CET
DTSTART:20231029T010000
END:STANDARD
END:VTIMEZONE
BEGIN:VEVENT
DTSTART;TZID=UTC:20230331T080000
DTEND;TZID=UTC:20230402T170000
DTSTAMP:20260423T184724
CREATED:20230325T080352Z
LAST-MODIFIED:20230325T080352Z
UID:2554-1680249600-1680454800@stmichaelschool.edu.mt
SUMMARY:Year 11 Live-in
DESCRIPTION:
URL:https://stmichaelschool.edu.mt/event/year-11-live-in/
END:VEVENT
BEGIN:VEVENT
DTSTART;VALUE=DATE:20230403
DTEND;VALUE=DATE:20230415
DTSTAMP:20260423T184724
CREATED:20230325T080432Z
LAST-MODIFIED:20230325T080432Z
UID:2557-1680480000-1681516799@stmichaelschool.edu.mt
SUMMARY:Easter Holidays
DESCRIPTION:
URL:https://stmichaelschool.edu.mt/event/easter-holidays/
END:VEVENT
BEGIN:VEVENT
DTSTART;VALUE=DATE:20230407
DTEND;VALUE=DATE:20230408
DTSTAMP:20260423T184724
CREATED:20230325T093036Z
LAST-MODIFIED:20230325T093036Z
UID:2561-1680825600-1680911999@stmichaelschool.edu.mt
SUMMARY:Good Friday
DESCRIPTION:
URL:https://stmichaelschool.edu.mt/event/good-friday/
END:VEVENT
BEGIN:VEVENT
DTSTART;TZID=UTC:20230417T080000
DTEND;TZID=UTC:20230417T143000
DTSTAMP:20260423T184724
CREATED:20230407T040455Z
LAST-MODIFIED:20230407T040455Z
UID:2771-1681718400-1681741800@stmichaelschool.edu.mt
SUMMARY:Back to School for the Second Term
DESCRIPTION:
URL:https://stmichaelschool.edu.mt/event/back-to-school-for-the-second-term/
END:VEVENT
BEGIN:VEVENT
DTSTART;TZID=UTC:20230421T190000
DTEND;TZID=UTC:20230421T210000
DTSTAMP:20260423T184724
CREATED:20230407T040754Z
LAST-MODIFIED:20230407T040754Z
UID:2774-1682103600-1682110800@stmichaelschool.edu.mt
SUMMARY:Open Evening for Parents of Prospective Students
DESCRIPTION:
URL:https://stmichaelschool.edu.mt/event/open-evening-for-parents-of-prospective-students/
END:VEVENT
BEGIN:VEVENT
DTSTART;TZID=UTC:20230424T080000
DTEND;TZID=UTC:20230428T143000
DTSTAMP:20260423T184724
CREATED:20230422T190409Z
LAST-MODIFIED:20230422T190409Z
UID:2844-1682323200-1682692200@stmichaelschool.edu.mt
SUMMARY:Book Week Activities
DESCRIPTION:
URL:https://stmichaelschool.edu.mt/event/book-week-activities/
END:VEVENT
BEGIN:VEVENT
DTSTART;TZID=UTC:20230424T083000
DTEND;TZID=UTC:20230424T123000
DTSTAMP:20260423T184724
CREATED:20230422T190622Z
LAST-MODIFIED:20230422T190622Z
UID:2847-1682325000-1682339400@stmichaelschool.edu.mt
SUMMARY:Buskett Field Work
DESCRIPTION:
URL:https://stmichaelschool.edu.mt/event/buskett-field-work/
END:VEVENT
BEGIN:VEVENT
DTSTART;TZID=UTC:20230425T090000
DTEND;TZID=UTC:20230425T110000
DTSTAMP:20260423T184724
CREATED:20230422T190713Z
LAST-MODIFIED:20230422T190713Z
UID:2850-1682413200-1682420400@stmichaelschool.edu.mt
SUMMARY:Year 9 & 10 Parents' Meeting
DESCRIPTION:
URL:https://stmichaelschool.edu.mt/event/year-9-10-parents-meeting/
END:VEVENT
BEGIN:VEVENT
DTSTART;TZID=UTC:20230426T090000
DTEND;TZID=UTC:20230426T170000
DTSTAMP:20260423T184724
CREATED:20230422T190800Z
LAST-MODIFIED:20230422T190800Z
UID:2852-1682499600-1682528400@stmichaelschool.edu.mt
SUMMARY:Year 7 & 8 Parents' Meeting
DESCRIPTION:
URL:https://stmichaelschool.edu.mt/event/year-7-8-parents-meeting/
END:VEVENT
BEGIN:VEVENT
DTSTART;TZID=Europe/Malta:20230427T093000
DTEND;TZID=Europe/Malta:20230427T220000
DTSTAMP:20260423T184724
CREATED:20230429T082825Z
LAST-MODIFIED:20230429T082825Z
UID:3061-1682587800-1682632800@stmichaelschool.edu.mt
SUMMARY:Visit at School by the Minister of Education and Minister of Inclusion
DESCRIPTION:
URL:https://stmichaelschool.edu.mt/event/visit-at-school-by-the-minister-of-education-and-minister-of-inclusion/
END:VEVENT
END:VCALENDAR