BEGIN:VCALENDAR
VERSION:2.0
PRODID:-//St Michael School - ECPv6.0.0.1//NONSGML v1.0//EN
CALSCALE:GREGORIAN
METHOD:PUBLISH
X-ORIGINAL-URL:https://stmichaelschool.edu.mt
X-WR-CALDESC:Events for St Michael School
REFRESH-INTERVAL;VALUE=DURATION:PT1H
X-Robots-Tag:noindex
X-PUBLISHED-TTL:PT1H
BEGIN:VTIMEZONE
TZID:UTC
BEGIN:STANDARD
TZOFFSETFROM:+0000
TZOFFSETTO:+0000
TZNAME:UTC
DTSTART:20230101T000000
END:STANDARD
END:VTIMEZONE
BEGIN:VEVENT
DTSTART;TZID=UTC:20230201T003000
DTEND;TZID=UTC:20230203T200000
DTSTAMP:20260423T233019
CREATED:20221228T115719Z
LAST-MODIFIED:20230115T200658Z
UID:1692-1675211400-1675454400@stmichaelschool.edu.mt
SUMMARY:Year 9 Live-In
DESCRIPTION:@ Mount St Joseph\, Tarġa Gap Mosta
URL:https://stmichaelschool.edu.mt/event/year-9-live-in/
END:VEVENT
BEGIN:VEVENT
DTSTART;TZID=UTC:20230209T080000
DTEND;TZID=UTC:20230209T143000
DTSTAMP:20260423T233019
CREATED:20230115T200416Z
LAST-MODIFIED:20230115T200416Z
UID:1747-1675929600-1675953000@stmichaelschool.edu.mt
SUMMARY:CoPE Session - Safeguarding Staff Seminar
DESCRIPTION:
URL:https://stmichaelschool.edu.mt/event/cope-session-safeguarding-staff-seminar/
END:VEVENT
BEGIN:VEVENT
DTSTART;VALUE=DATE:20230210
DTEND;VALUE=DATE:20230211
DTSTAMP:20260423T233019
CREATED:20230115T200506Z
LAST-MODIFIED:20230115T200506Z
UID:1750-1675987200-1676073599@stmichaelschool.edu.mt
SUMMARY:Feast of St Paul
DESCRIPTION:
URL:https://stmichaelschool.edu.mt/event/feast-of-st-paul/
END:VEVENT
BEGIN:VEVENT
DTSTART;TZID=UTC:20230213T090000
DTEND;TZID=UTC:20230213T113000
DTSTAMP:20260423T233019
CREATED:20230210T075203Z
LAST-MODIFIED:20230210T075203Z
UID:2049-1676278800-1676287800@stmichaelschool.edu.mt
SUMMARY:Year 11 Art Students visit Mosta MCAST
DESCRIPTION:
URL:https://stmichaelschool.edu.mt/event/year-11-art-students-visit-mosta-mcast/
END:VEVENT
BEGIN:VEVENT
DTSTART;TZID=UTC:20230217T080000
DTEND;TZID=UTC:20230217T143000
DTSTAMP:20260423T233019
CREATED:20230210T115804Z
LAST-MODIFIED:20230210T115804Z
UID:2053-1676620800-1676644200@stmichaelschool.edu.mt
SUMMARY:Sports Day
DESCRIPTION:
URL:https://stmichaelschool.edu.mt/event/sports-day/
END:VEVENT
BEGIN:VEVENT
DTSTART;VALUE=DATE:20230220
DTEND;VALUE=DATE:20230222
DTSTAMP:20260423T233019
CREATED:20230218T063402Z
LAST-MODIFIED:20230218T063402Z
UID:2105-1676851200-1677023999@stmichaelschool.edu.mt
SUMMARY:Carnival Holidays
DESCRIPTION:
URL:https://stmichaelschool.edu.mt/event/carnival-holidays/
END:VEVENT
BEGIN:VEVENT
DTSTART;TZID=UTC:20230222T080000
DTEND;TZID=UTC:20230222T123000
DTSTAMP:20260423T233019
CREATED:20230218T063524Z
LAST-MODIFIED:20230218T063524Z
UID:2108-1677052800-1677069000@stmichaelschool.edu.mt
SUMMARY:Ash Wednesday Celebration
DESCRIPTION:
URL:https://stmichaelschool.edu.mt/event/ash-wednesday-celebration/
END:VEVENT
BEGIN:VEVENT
DTSTART;TZID=UTC:20230227T080000
DTEND;TZID=UTC:20230227T123000
DTSTAMP:20260423T233019
CREATED:20230302T205439Z
LAST-MODIFIED:20230302T205549Z
UID:2221-1677484800-1677501000@stmichaelschool.edu.mt
SUMMARY:Year 11 Final Examinations
DESCRIPTION:
URL:https://stmichaelschool.edu.mt/event/year-11-final-examinations/
END:VEVENT
BEGIN:VEVENT
DTSTART;TZID=UTC:20230228T103000
DTEND;TZID=UTC:20230228T120000
DTSTAMP:20260423T233019
CREATED:20230302T205316Z
LAST-MODIFIED:20230302T205316Z
UID:2218-1677580200-1677585600@stmichaelschool.edu.mt
SUMMARY:Relic of the Blessed Carlo Acutis Celebration
DESCRIPTION:
URL:https://stmichaelschool.edu.mt/event/relic-of-the-blessed-carlo-acutis-celebration/
END:VEVENT
END:VCALENDAR