BEGIN:VCALENDAR
VERSION:2.0
PRODID:-//St Michael School - ECPv6.0.0.1//NONSGML v1.0//EN
CALSCALE:GREGORIAN
METHOD:PUBLISH
X-ORIGINAL-URL:https://stmichaelschool.edu.mt
X-WR-CALDESC:Events for St Michael School
REFRESH-INTERVAL;VALUE=DURATION:PT1H
X-Robots-Tag:noindex
X-PUBLISHED-TTL:PT1H
BEGIN:VTIMEZONE
TZID:UTC
BEGIN:STANDARD
TZOFFSETFROM:+0000
TZOFFSETTO:+0000
TZNAME:UTC
DTSTART:20220101T000000
END:STANDARD
END:VTIMEZONE
BEGIN:VEVENT
DTSTART;TZID=UTC:20221201T080000
DTEND;TZID=UTC:20221201T143000
DTSTAMP:20260424T011028
CREATED:20221005T073907Z
LAST-MODIFIED:20221005T074035Z
UID:755-1669881600-1669905000@stmichaelschool.edu.mt
SUMMARY:Parents' Day - Groups 1 & 2
DESCRIPTION:
URL:https://stmichaelschool.edu.mt/event/parents-day/
END:VEVENT
BEGIN:VEVENT
DTSTART;TZID=UTC:20221202T080000
DTEND;TZID=UTC:20221202T120000
DTSTAMP:20260424T011028
CREATED:20221005T074009Z
LAST-MODIFIED:20221005T074009Z
UID:758-1669968000-1669982400@stmichaelschool.edu.mt
SUMMARY:Parents' Day - Group 3
DESCRIPTION:
URL:https://stmichaelschool.edu.mt/event/parents-day-group-3/
END:VEVENT
BEGIN:VEVENT
DTSTART;TZID=UTC:20221202T123000
DTEND;TZID=UTC:20221202T143000
DTSTAMP:20260424T011028
CREATED:20221005T074137Z
LAST-MODIFIED:20221005T074137Z
UID:762-1669984200-1669991400@stmichaelschool.edu.mt
SUMMARY:CoPE Session
DESCRIPTION:Staff Development Meeting
URL:https://stmichaelschool.edu.mt/event/cope-session/
END:VEVENT
BEGIN:VEVENT
DTSTART;VALUE=DATE:20221208
DTEND;VALUE=DATE:20221209
DTSTAMP:20260424T011028
CREATED:20221005T074449Z
LAST-MODIFIED:20221005T074449Z
UID:765-1670457600-1670543999@stmichaelschool.edu.mt
SUMMARY:Feast of the Immaculate Conception of the Blessed Virgin Mary
DESCRIPTION:
URL:https://stmichaelschool.edu.mt/event/feast-of-the-immaculate-conception-of-the-blessed-virgin-mary/
END:VEVENT
BEGIN:VEVENT
DTSTART;TZID=UTC:20221209T183000
DTEND;TZID=UTC:20221209T210000
DTSTAMP:20260424T011028
CREATED:20221005T074549Z
LAST-MODIFIED:20221005T074549Z
UID:768-1670610600-1670619600@stmichaelschool.edu.mt
SUMMARY:Christmas Concert
DESCRIPTION:
URL:https://stmichaelschool.edu.mt/event/christmas-concert/
END:VEVENT
BEGIN:VEVENT
DTSTART;TZID=UTC:20221212T080000
DTEND;TZID=UTC:20221212T143000
DTSTAMP:20260424T011028
CREATED:20221005T074629Z
LAST-MODIFIED:20221005T074730Z
UID:771-1670832000-1670855400@stmichaelschool.edu.mt
SUMMARY:Marathon Walk
DESCRIPTION:
URL:https://stmichaelschool.edu.mt/event/marathon-walk/
END:VEVENT
BEGIN:VEVENT
DTSTART;VALUE=DATE:20221213
DTEND;VALUE=DATE:20221214
DTSTAMP:20260424T011028
CREATED:20221005T074820Z
LAST-MODIFIED:20221005T074820Z
UID:774-1670889600-1670975999@stmichaelschool.edu.mt
SUMMARY:Republic National Holiday
DESCRIPTION:
URL:https://stmichaelschool.edu.mt/event/republic-national-holiday/
END:VEVENT
BEGIN:VEVENT
DTSTART;TZID=UTC:20221222T080000
DTEND;TZID=UTC:20221222T123000
DTSTAMP:20260424T011028
CREATED:20221005T075014Z
LAST-MODIFIED:20221005T142219Z
UID:777-1671696000-1671712200@stmichaelschool.edu.mt
SUMMARY:CoPE Session - Staff Team Building
DESCRIPTION:Staff Christmas reflection and lunch
URL:https://stmichaelschool.edu.mt/event/cope-session-2/
END:VEVENT
BEGIN:VEVENT
DTSTART;VALUE=DATE:20221224
DTEND;VALUE=DATE:20221225
DTSTAMP:20260424T011028
CREATED:20221005T081437Z
LAST-MODIFIED:20221005T081437Z
UID:781-1671840000-1671926399@stmichaelschool.edu.mt
SUMMARY:Christmas Eve
DESCRIPTION:
URL:https://stmichaelschool.edu.mt/event/christmas-eve/
END:VEVENT
BEGIN:VEVENT
DTSTART;VALUE=DATE:20221225
DTEND;VALUE=DATE:20221226
DTSTAMP:20260424T011028
CREATED:20221005T081522Z
LAST-MODIFIED:20221005T081522Z
UID:784-1671926400-1672012799@stmichaelschool.edu.mt
SUMMARY:Christmas Day
DESCRIPTION:
URL:https://stmichaelschool.edu.mt/event/christmas-day/
END:VEVENT
BEGIN:VEVENT
DTSTART;VALUE=DATE:20221226
DTEND;VALUE=DATE:20230107
DTSTAMP:20260424T011028
CREATED:20221005T081608Z
LAST-MODIFIED:20221005T081608Z
UID:787-1672012800-1673049599@stmichaelschool.edu.mt
SUMMARY:Christmas Holidays
DESCRIPTION:
URL:https://stmichaelschool.edu.mt/event/christmas-holidays/
END:VEVENT
END:VCALENDAR