BEGIN:VCALENDAR
VERSION:2.0
PRODID:-//St Michael School - ECPv6.0.0.1//NONSGML v1.0//EN
CALSCALE:GREGORIAN
METHOD:PUBLISH
X-ORIGINAL-URL:https://stmichaelschool.edu.mt
X-WR-CALDESC:Events for St Michael School
REFRESH-INTERVAL;VALUE=DURATION:PT1H
X-Robots-Tag:noindex
X-PUBLISHED-TTL:PT1H
BEGIN:VTIMEZONE
TZID:Europe/Malta
BEGIN:DAYLIGHT
TZOFFSETFROM:+0100
TZOFFSETTO:+0200
TZNAME:CEST
DTSTART:20250330T010000
END:DAYLIGHT
BEGIN:STANDARD
TZOFFSETFROM:+0200
TZOFFSETTO:+0100
TZNAME:CET
DTSTART:20251026T010000
END:STANDARD
END:VTIMEZONE
BEGIN:VEVENT
DTSTART;VALUE=DATE:20250402
DTEND;VALUE=DATE:20250403
DTSTAMP:20260420T075226
CREATED:20250328T161150Z
LAST-MODIFIED:20250328T161150Z
UID:7947-1743552000-1743638399@stmichaelschool.edu.mt
SUMMARY:Celebrating Autism and Down syndrome Day
DESCRIPTION:Students are encouraged to come to school casually wearing a blue shirt and different coloured socks.
URL:https://stmichaelschool.edu.mt/event/celebrating-autism-and-down-syndrome-day/
END:VEVENT
END:VCALENDAR