BEGIN:VCALENDAR
VERSION:2.0
PRODID:-//St Michael School - ECPv6.0.0.1//NONSGML v1.0//EN
CALSCALE:GREGORIAN
METHOD:PUBLISH
X-ORIGINAL-URL:https://stmichaelschool.edu.mt
X-WR-CALDESC:Events for St Michael School
REFRESH-INTERVAL;VALUE=DURATION:PT1H
X-Robots-Tag:noindex
X-PUBLISHED-TTL:PT1H
BEGIN:VTIMEZONE
TZID:Europe/Malta
BEGIN:DAYLIGHT
TZOFFSETFROM:+0100
TZOFFSETTO:+0200
TZNAME:CEST
DTSTART:20250330T010000
END:DAYLIGHT
BEGIN:STANDARD
TZOFFSETFROM:+0200
TZOFFSETTO:+0100
TZNAME:CET
DTSTART:20251026T010000
END:STANDARD
END:VTIMEZONE
BEGIN:VEVENT
DTSTART;VALUE=DATE:20250401
DTEND;VALUE=DATE:20250402
DTSTAMP:20260420T074925
CREATED:20250328T160706Z
LAST-MODIFIED:20250328T160706Z
UID:7940-1743465600-1743551999@stmichaelschool.edu.mt
SUMMARY:Professional development session for all educators
DESCRIPTION:There will be a professional development session for all educators. Please note that students will not have school on this day.
URL:https://stmichaelschool.edu.mt/event/professional-development-session-for-all-educators/
END:VEVENT
BEGIN:VEVENT
DTSTART;TZID=Europe/Malta:20250401T180000
DTEND;TZID=Europe/Malta:20250401T210000
DTSTAMP:20260420T074925
CREATED:20250328T160853Z
LAST-MODIFIED:20250328T160914Z
UID:7943-1743530400-1743541200@stmichaelschool.edu.mt
SUMMARY:Open Evening for Prospective Students and Their Parents
DESCRIPTION:Open Evening for Prospective Students and Their Parents.
URL:https://stmichaelschool.edu.mt/event/open-evening-for-prospective-students-and-their-parents/
END:VEVENT
END:VCALENDAR