BEGIN:VCALENDAR
VERSION:2.0
PRODID:-//St Michael School - ECPv6.0.0.1//NONSGML v1.0//EN
CALSCALE:GREGORIAN
METHOD:PUBLISH
X-ORIGINAL-URL:https://stmichaelschool.edu.mt
X-WR-CALDESC:Events for St Michael School
REFRESH-INTERVAL;VALUE=DURATION:PT1H
X-Robots-Tag:noindex
X-PUBLISHED-TTL:PT1H
BEGIN:VTIMEZONE
TZID:Europe/Malta
BEGIN:DAYLIGHT
TZOFFSETFROM:+0100
TZOFFSETTO:+0200
TZNAME:CEST
DTSTART:20230326T010000
END:DAYLIGHT
BEGIN:STANDARD
TZOFFSETFROM:+0200
TZOFFSETTO:+0100
TZNAME:CET
DTSTART:20231029T010000
END:STANDARD
END:VTIMEZONE
BEGIN:VEVENT
DTSTART;TZID=Europe/Malta:20230926T080000
DTEND;TZID=Europe/Malta:20230926T143000
DTSTAMP:20260423T112016
CREATED:20230913T130315Z
LAST-MODIFIED:20230913T130315Z
UID:4313-1695715200-1695738600@stmichaelschool.edu.mt
SUMMARY:Year 8\, 9\, 10 and 11 Back to School
DESCRIPTION:
URL:https://stmichaelschool.edu.mt/event/year-8-9-10-and-11-back-to-school/
END:VEVENT
END:VCALENDAR