BEGIN:VCALENDAR
VERSION:2.0
PRODID:-//St Michael School - ECPv6.0.0.1//NONSGML v1.0//EN
CALSCALE:GREGORIAN
METHOD:PUBLISH
X-ORIGINAL-URL:https://stmichaelschool.edu.mt
X-WR-CALDESC:Events for St Michael School
REFRESH-INTERVAL;VALUE=DURATION:PT1H
X-Robots-Tag:noindex
X-PUBLISHED-TTL:PT1H
BEGIN:VTIMEZONE
TZID:UTC
BEGIN:STANDARD
TZOFFSETFROM:+0000
TZOFFSETTO:+0000
TZNAME:UTC
DTSTART:20230101T000000
END:STANDARD
END:VTIMEZONE
BEGIN:VEVENT
DTSTART;TZID=UTC:20230330T080000
DTEND;TZID=UTC:20230330T090000
DTSTAMP:20260423T202606
CREATED:20230325T080225Z
LAST-MODIFIED:20230325T080225Z
UID:2548-1680163200-1680166800@stmichaelschool.edu.mt
SUMMARY:Feast of our Lady of Sorrows at School
DESCRIPTION:
URL:https://stmichaelschool.edu.mt/event/feast-of-our-lady-of-sorrows-at-school/
END:VEVENT
END:VCALENDAR