BEGIN:VCALENDAR
VERSION:2.0
PRODID:-//St Michael School - ECPv6.0.0.1//NONSGML v1.0//EN
CALSCALE:GREGORIAN
METHOD:PUBLISH
X-ORIGINAL-URL:https://stmichaelschool.edu.mt
X-WR-CALDESC:Events for St Michael School
REFRESH-INTERVAL;VALUE=DURATION:PT1H
X-Robots-Tag:noindex
X-PUBLISHED-TTL:PT1H
BEGIN:VTIMEZONE
TZID:UTC
BEGIN:STANDARD
TZOFFSETFROM:+0000
TZOFFSETTO:+0000
TZNAME:UTC
DTSTART:20230101T000000
END:STANDARD
END:VTIMEZONE
BEGIN:VEVENT
DTSTART;TZID=UTC:20230321T093000
DTEND;TZID=UTC:20230321T130000
DTSTAMP:20260423T214617
CREATED:20230320T204422Z
LAST-MODIFIED:20230320T204422Z
UID:2430-1679391000-1679403600@stmichaelschool.edu.mt
SUMMARY:Dutch Students and Teachers to visit our School
DESCRIPTION:
URL:https://stmichaelschool.edu.mt/event/dutch-students-and-teachers-to-visit-our-school/
END:VEVENT
END:VCALENDAR