BEGIN:VCALENDAR
VERSION:2.0
PRODID:-//St Michael School - ECPv6.0.0.1//NONSGML v1.0//EN
CALSCALE:GREGORIAN
METHOD:PUBLISH
X-ORIGINAL-URL:https://stmichaelschool.edu.mt
X-WR-CALDESC:Events for St Michael School
REFRESH-INTERVAL;VALUE=DURATION:PT1H
X-Robots-Tag:noindex
X-PUBLISHED-TTL:PT1H
BEGIN:VTIMEZONE
TZID:UTC
BEGIN:STANDARD
TZOFFSETFROM:+0000
TZOFFSETTO:+0000
TZNAME:UTC
DTSTART:20230101T000000
END:STANDARD
END:VTIMEZONE
BEGIN:VEVENT
DTSTART;TZID=UTC:20230227T080000
DTEND;TZID=UTC:20230227T123000
DTSTAMP:20260423T232906
CREATED:20230302T205439Z
LAST-MODIFIED:20230302T205549Z
UID:2221-1677484800-1677501000@stmichaelschool.edu.mt
SUMMARY:Year 11 Final Examinations
DESCRIPTION:
URL:https://stmichaelschool.edu.mt/event/year-11-final-examinations/
END:VEVENT
END:VCALENDAR