BEGIN:VCALENDAR
VERSION:2.0
PRODID:-//St Michael School - ECPv6.0.0.1//NONSGML v1.0//EN
CALSCALE:GREGORIAN
METHOD:PUBLISH
X-ORIGINAL-URL:https://stmichaelschool.edu.mt
X-WR-CALDESC:Events for St Michael School
REFRESH-INTERVAL;VALUE=DURATION:PT1H
X-Robots-Tag:noindex
X-PUBLISHED-TTL:PT1H
BEGIN:VTIMEZONE
TZID:UTC
BEGIN:STANDARD
TZOFFSETFROM:+0000
TZOFFSETTO:+0000
TZNAME:UTC
DTSTART:20230101T000000
END:STANDARD
END:VTIMEZONE
BEGIN:VEVENT
DTSTART;TZID=UTC:20230217T080000
DTEND;TZID=UTC:20230217T143000
DTSTAMP:20260423T232717
CREATED:20230210T115804Z
LAST-MODIFIED:20230210T115804Z
UID:2053-1676620800-1676644200@stmichaelschool.edu.mt
SUMMARY:Sports Day
DESCRIPTION:
URL:https://stmichaelschool.edu.mt/event/sports-day/
END:VEVENT
END:VCALENDAR