BEGIN:VCALENDAR
VERSION:2.0
PRODID:-//St Michael School - ECPv6.0.0.1//NONSGML v1.0//EN
CALSCALE:GREGORIAN
METHOD:PUBLISH
X-ORIGINAL-URL:https://stmichaelschool.edu.mt
X-WR-CALDESC:Events for St Michael School
REFRESH-INTERVAL;VALUE=DURATION:PT1H
X-Robots-Tag:noindex
X-PUBLISHED-TTL:PT1H
BEGIN:VTIMEZONE
TZID:UTC
BEGIN:STANDARD
TZOFFSETFROM:+0000
TZOFFSETTO:+0000
TZNAME:UTC
DTSTART:20230101T000000
END:STANDARD
END:VTIMEZONE
BEGIN:VEVENT
DTSTART;TZID=UTC:20230126T090000
DTEND;TZID=UTC:20230126T110000
DTSTAMP:20260424T010814
CREATED:20221228T115326Z
LAST-MODIFIED:20221228T115326Z
UID:1686-1674723600-1674730800@stmichaelschool.edu.mt
SUMMARY:Year 9 & 10 - Parents' Seminar
DESCRIPTION:
URL:https://stmichaelschool.edu.mt/event/year-9-10-parents-seminar/
END:VEVENT
END:VCALENDAR