BEGIN:VCALENDAR
VERSION:2.0
PRODID:-//St Michael School - ECPv6.0.0.1//NONSGML v1.0//EN
CALSCALE:GREGORIAN
METHOD:PUBLISH
X-ORIGINAL-URL:https://stmichaelschool.edu.mt
X-WR-CALDESC:Events for St Michael School
REFRESH-INTERVAL;VALUE=DURATION:PT1H
X-Robots-Tag:noindex
X-PUBLISHED-TTL:PT1H
BEGIN:VTIMEZONE
TZID:UTC
BEGIN:STANDARD
TZOFFSETFROM:+0000
TZOFFSETTO:+0000
TZNAME:UTC
DTSTART:20220101T000000
END:STANDARD
END:VTIMEZONE
BEGIN:VEVENT
DTSTART;VALUE=DATE:20221208
DTEND;VALUE=DATE:20221209
DTSTAMP:20260424T024005
CREATED:20221005T074449Z
LAST-MODIFIED:20221005T074449Z
UID:765-1670457600-1670543999@stmichaelschool.edu.mt
SUMMARY:Feast of the Immaculate Conception of the Blessed Virgin Mary
DESCRIPTION:
URL:https://stmichaelschool.edu.mt/event/feast-of-the-immaculate-conception-of-the-blessed-virgin-mary/
END:VEVENT
END:VCALENDAR