BEGIN:VCALENDAR
VERSION:2.0
PRODID:-//St Michael School - ECPv6.0.0.1//NONSGML v1.0//EN
CALSCALE:GREGORIAN
METHOD:PUBLISH
X-ORIGINAL-URL:https://stmichaelschool.edu.mt
X-WR-CALDESC:Events for St Michael School
REFRESH-INTERVAL;VALUE=DURATION:PT1H
X-Robots-Tag:noindex
X-PUBLISHED-TTL:PT1H
BEGIN:VTIMEZONE
TZID:UTC
BEGIN:STANDARD
TZOFFSETFROM:+0000
TZOFFSETTO:+0000
TZNAME:UTC
DTSTART:20220101T000000
END:STANDARD
END:VTIMEZONE
BEGIN:VEVENT
DTSTART;TZID=UTC:20221202T080000
DTEND;TZID=UTC:20221202T120000
DTSTAMP:20260424T024006
CREATED:20221005T074009Z
LAST-MODIFIED:20221005T074009Z
UID:758-1669968000-1669982400@stmichaelschool.edu.mt
SUMMARY:Parents' Day - Group 3
DESCRIPTION:
URL:https://stmichaelschool.edu.mt/event/parents-day-group-3/
END:VEVENT
BEGIN:VEVENT
DTSTART;TZID=UTC:20221202T123000
DTEND;TZID=UTC:20221202T143000
DTSTAMP:20260424T024006
CREATED:20221005T074137Z
LAST-MODIFIED:20221005T074137Z
UID:762-1669984200-1669991400@stmichaelschool.edu.mt
SUMMARY:CoPE Session
DESCRIPTION:Staff Development Meeting
URL:https://stmichaelschool.edu.mt/event/cope-session/
END:VEVENT
END:VCALENDAR