BEGIN:VCALENDAR
VERSION:2.0
PRODID:-//St Michael School - ECPv6.0.0.1//NONSGML v1.0//EN
CALSCALE:GREGORIAN
METHOD:PUBLISH
X-ORIGINAL-URL:https://stmichaelschool.edu.mt
X-WR-CALDESC:Events for St Michael School
REFRESH-INTERVAL;VALUE=DURATION:PT1H
X-Robots-Tag:noindex
X-PUBLISHED-TTL:PT1H
BEGIN:VTIMEZONE
TZID:UTC
BEGIN:STANDARD
TZOFFSETFROM:+0000
TZOFFSETTO:+0000
TZNAME:UTC
DTSTART:20220101T000000
END:STANDARD
END:VTIMEZONE
BEGIN:VEVENT
DTSTART;TZID=UTC:20221123T123000
DTEND;TZID=UTC:20221125T203000
DTSTAMP:20260424T161646
CREATED:20221005T053217Z
LAST-MODIFIED:20221005T053217Z
UID:737-1669206600-1669408200@stmichaelschool.edu.mt
SUMMARY:Year 7 Live-In at Dar il-Ħanin Samaritan - Group 2
DESCRIPTION:
URL:https://stmichaelschool.edu.mt/event/year-7-live-in-at-dar-il-hanin-samaritan-group-2/
END:VEVENT
END:VCALENDAR